BEGIN:VCALENDAR
VERSION:2.0
PRODID:-//Segelclub Wendelsee Thun//NONSGML kigkonsult.se iCalcreator 2.16.
 12//
METHOD:PUBLISH
X-MS-OLK-FORCEINSPECTOROPEN:TRUE
BEGIN:VEVENT
UID:20260419T201252CEST-2617AKRCXl@Segelclub Wendelsee Thun
DTSTAMP:20260419T181252Z
DESCRIPTION:\n\nAm Junihöck kocht uns Koni Gysin Spaghetti.\n\nMenü:\n- Apé
 ro​\n- Spaghetti mit drei Saucen\n- kleiner Dessert ​\n\nDetails siehe im 
 Flyer von Koni.\nWir bitten um eure Anmeldung bis 29. Mai 2018 mit der SCW
 e-Seite oder per Mail an info@scwe.ch\n\nVielen Dank!\n 
DTSTART:20180601T210000
DTEND:20180602T010000
LOCATION:SCWe Clublokal
ORGANIZER:MAILTO:Segelclub Wendelsee Thun <info@scwe.ch>
SUMMARY:Juni-Höck
END:VEVENT
END:VCALENDAR
