BEGIN:VCALENDAR
VERSION:2.0
PRODID:-//Segelclub Wendelsee Thun//NONSGML kigkonsult.se iCalcreator 2.16.
 12//
METHOD:PUBLISH
X-MS-OLK-FORCEINSPECTOROPEN:TRUE
BEGIN:VEVENT
UID:20260419T185952CEST-0962GwGlCF@Segelclub Wendelsee Thun
DTSTAMP:20260419T165952Z
DESCRIPTION:Wir laden Euch herzlich zur traditionellen Fischsuppe ein!\nBek
 ocht werdet Ihr von der 007 Renngeiss Crew\, Christof Gafner\, Markus Dürs
 t und Connor Fuhrer.\n \nWann:     am Freitag\, 04.5.2018 ab 1900 Uhr\nWo:
           im Clubhaus\nKosten:   20.- pro Person\n \nWenn Ihr also die sch
 arfe Rouille nicht scheucht…. würden wir uns sehr über Eure Teilnahme freu
 en! Da wir den Fisch frisch einkaufen müssen und dies ziemlich kostspielig
  ist\, bitten wir um frühzeitige Anmeldungen\, spätestens bis 01.05.2018!
 \nBitte per email an info@scwe.ch oder mit der Homepage mit dem roten Knop
 f.\n\nHerzliche Grüsse Christof\, Markus und Connor\n 
DTSTART:20180504T210000
DTEND:20180505T010000
LOCATION:SCWe Clublokal
ORGANIZER:MAILTO:Segelclub Wendelsee Thun <info@scwe.ch>
SUMMARY:Fischsuppe-Höck im Mai
END:VEVENT
END:VCALENDAR
