BEGIN:VCALENDAR
VERSION:2.0
PRODID:-//Segelclub Wendelsee Thun//NONSGML kigkonsult.se iCalcreator 2.16.
 12//
METHOD:PUBLISH
X-MS-OLK-FORCEINSPECTOROPEN:TRUE
BEGIN:VEVENT
UID:20260419T184856CEST-78849mvX7p@Segelclub Wendelsee Thun
DTSTAMP:20260419T164856Z
DESCRIPTION:Am Freitag\, 20. April 2018 ab 11:00 Uhr treffen sich SCWe-Segl
 er und Freunde zum Apéro im Hotel Holiday.\n​Es braucht keine An- oder Abm
 eldung. Einfach kommen wer Lust und Zeit hat.
DTSTART:20180420T130000
DTEND:20180420T140000
LOCATION:Hotel Holiday
ORGANIZER:MAILTO:Segelclub Wendelsee Thun <info@scwe.ch>
SUMMARY:Apéro Zwischendurch
END:VEVENT
END:VCALENDAR
