BEGIN:VCALENDAR
VERSION:2.0
PRODID:-//Segelclub Wendelsee Thun//NONSGML kigkonsult.se iCalcreator 2.16.
 12//
METHOD:PUBLISH
X-MS-OLK-FORCEINSPECTOROPEN:TRUE
BEGIN:VEVENT
UID:20260419T185203CEST-7150vUCNKM@Segelclub Wendelsee Thun
DTSTAMP:20260419T165203Z
DESCRIPTION:Am diesjährigen April-Höck werden Crèpes serviert!\nDie Gäste k
 önnen wiederum zwischen einer Vielzahl an Beilagen wählen und je nach Gesc
 hmack eigene Kreationen zusammenstellen. 'Bon Appetit!«\nIhr seid herzlich
  eingeladen zum Crèpes-Plausch vom\nFreitag\, 6. April 2018 ab 19 Uhr im C
 lublokal.\nDie Köche\, Agnes und Ueli Scheidegger\, freuen sich auf viele 
 hungrige Gäste!\n\nDie Kosten pro Person für unsere Crèpes à discrétion be
 laufen sich auf 15.00 Franken.\nKinder bezahlen pro Altersjahr einen Frank
 en.\n\nAnmeldung bitte bis 02. April 2018 mit dem roten Anmeldeknopf oder 
 per Mail
DTSTART:20180406T210000
DTEND:20180407T010000
LOCATION:SCWe Clublokal
ORGANIZER:MAILTO:Segelclub Wendelsee Thun <info@scwe.ch>
SUMMARY:April-Höck vom 06.04.18
END:VEVENT
END:VCALENDAR
