BEGIN:VCALENDAR
VERSION:2.0
PRODID:-//Segelclub Wendelsee Thun//NONSGML kigkonsult.se iCalcreator 2.16.
 12//
METHOD:PUBLISH
X-MS-OLK-FORCEINSPECTOROPEN:TRUE
BEGIN:VEVENT
UID:20260419T185203CEST-17631ufVIU@Segelclub Wendelsee Thun
DTSTAMP:20260419T165203Z
DESCRIPTION:Aero- und Hydrodynamik des Segelns\nSeminar mit Dr Urs E. Zurfl
 uh in der Halle am Riedbach in Oberhofen\nDie Segelschule Thunersee und de
 r RCO haben das erfolgreiche Seminar an den Thunersee gebracht. Ich kann d
 ie Teilnahme sehr empfehlen.\nDie Bekanntmachung läuft jetzt an\, die Teil
 nehmerplätze sind begrenzt.\nStefan Seger\, RCO\nWeitere Informationen sie
 he Beilage.\nAnmeldung per e-Mail an urs.zurfluh@advantis.ch\n\n 
DTSTART:20180127T144500
DTEND:20180127T181500
LOCATION:Oberhofen
ORGANIZER:MAILTO:Segelclub Wendelsee Thun <info@scwe.ch>
SUMMARY:Aero-Seminar in Oberhofen
END:VEVENT
END:VCALENDAR
