BEGIN:VCALENDAR
VERSION:2.0
PRODID:-//Segelclub Wendelsee Thun//NONSGML kigkonsult.se iCalcreator 2.16.
 12//
METHOD:PUBLISH
X-MS-OLK-FORCEINSPECTOROPEN:TRUE
BEGIN:VEVENT
UID:20260419T185222CEST-6496zbM2FT@Segelclub Wendelsee Thun
DTSTAMP:20260419T165222Z
DESCRIPTION:GV mit der Behandlung der Traktanden gemäss Statuten sowie die 
 Abgabe der Jahrbücher 2018\nSiehe Einladung zur GV 2018.\nAnschliessend ge
 mütlicher Teil mit Apéro und gutem Flammenkuchen in der Möve Faulensee
DTSTART:20180323T210000
DTEND:20180323T230000
LOCATION:Hotel Restaurant 'Möve'
ORGANIZER:MAILTO:Segelclub Wendelsee Thun <info@scwe.ch>
SUMMARY:GV 2018
END:VEVENT
END:VCALENDAR
