BEGIN:VCALENDAR
VERSION:2.0
PRODID:-//Segelclub Wendelsee Thun//NONSGML kigkonsult.se iCalcreator 2.16.
 12//
METHOD:PUBLISH
X-MS-OLK-FORCEINSPECTOROPEN:TRUE
BEGIN:VEVENT
UID:20260419T185026CEST-0393oXvU2o@Segelclub Wendelsee Thun
DTSTAMP:20260419T165026Z
DESCRIPTION:Wer Lust und Zeit hat trifft sich jeweils Mitte Monat am Freita
 g ab 11:00 Uhr im Hotel Holiday zum Apéro.\nKeine Anmeldung - bitte einfac
 h kommen.
DTSTART:20180216T120000
DTEND:20180216T130000
LOCATION:Hotel Holiday
ORGANIZER:MAILTO:Segelclub Wendelsee Thun <info@scwe.ch>
SUMMARY:Apéro Zwischendurch
END:VEVENT
END:VCALENDAR
