BEGIN:VCALENDAR
VERSION:2.0
PRODID:-//Segelclub Wendelsee Thun//NONSGML kigkonsult.se iCalcreator 2.16.
 12//
METHOD:PUBLISH
X-MS-OLK-FORCEINSPECTOROPEN:TRUE
BEGIN:VEVENT
UID:20260419T185055CEST-9099x4homB@Segelclub Wendelsee Thun
DTSTAMP:20260419T165055Z
DESCRIPTION:Gemäss separater Einladung für die Helfer und Helferinnen der S
 CWe-Anlässe.
DTSTART:20180302T194500
DTEND:20180302T233000
LOCATION:Thun
ORGANIZER:MAILTO:Segelclub Wendelsee Thun <info@scwe.ch>
SUMMARY:Helferabend
END:VEVENT
END:VCALENDAR
