BEGIN:VCALENDAR
VERSION:2.0
PRODID:-//Segelclub Wendelsee Thun//NONSGML kigkonsult.se iCalcreator 2.16.
 12//
METHOD:PUBLISH
X-MS-OLK-FORCEINSPECTOROPEN:TRUE
BEGIN:VEVENT
UID:20260419T184933CEST-7852VUU4l8@Segelclub Wendelsee Thun
DTSTAMP:20260419T164933Z
DESCRIPTION:Mit dem traditionellen Fondueabend starten wir die Saison 2018.
  Dies ist zugleich der erste SCWe-Höck im neuen Jahr. Heinz und Erika Gass
 er sind das Kochteam. Ueli Strycker der Clubwirt.\n\nDatum/ Zeit\nFreitag\
 , 2. Februar 2018\, 19:00 Uhr\nweitere Angaben siehe Einladung.\n\nAnmelde
 n\nBis spätestens MI\, 31. Jan\, 2018 mit der SCWe-Seite oder mit einem Ma
 il.\n\n\n\nWir freuen uns auf Ihren Besuch. Der Vorstand\n
DTSTART:20180202T200000
DTEND:20180203T000000
LOCATION:SCWe Clublokal
ORGANIZER:MAILTO:Segelclub Wendelsee Thun <info@scwe.ch>
SUMMARY:Fondueabend
END:VEVENT
END:VCALENDAR
