BEGIN:VCALENDAR
VERSION:2.0
PRODID:-//Segelclub Wendelsee Thun//NONSGML kigkonsult.se iCalcreator 2.16.
 12//
METHOD:PUBLISH
X-MS-OLK-FORCEINSPECTOROPEN:TRUE
BEGIN:VEVENT
UID:20260419T185230CEST-3936VsBGXF@Segelclub Wendelsee Thun
DTSTAMP:20260419T165230Z
DESCRIPTION:Wer Lust und Zeit hat trifft sich jeweils Mitte Monat am Freita
 g ab 11:00 Uhr im Hotel Holiday zum Apéro.\nDauer: 11:00 - etwa 12:00 Uhr.
 \nKeine Anmeldung - bitte einfach kommen.
DTSTART:20180119T120000
DTEND:20180119T130000
LOCATION:Hotel Holiday in Thun
ORGANIZER:MAILTO:Segelclub Wendelsee Thun <info@scwe.ch>
SUMMARY:Apéro zwischendurch
END:VEVENT
END:VCALENDAR
