BEGIN:VCALENDAR
VERSION:2.0
PRODID:-//Segelclub Wendelsee Thun//NONSGML kigkonsult.se iCalcreator 2.16.
 12//
METHOD:PUBLISH
X-MS-OLK-FORCEINSPECTOROPEN:TRUE
BEGIN:VEVENT
UID:20260419T185046CEST-5005sOlkHr@Segelclub Wendelsee Thun
DTSTAMP:20260419T165046Z
DESCRIPTION:Am Freitag\, 20. Oktober 2017 treffen wir uns wie gewohnt im Ho
 liday Thun zum Apéro.\nAb 10:45 bis etwa um 12:00 Uhr.\n\nJe nach Witterun
 g im Freien oder im Hause.\n\nKeine Anmeldung - einfach nur kommen.\n
DTSTART:20171020T124500
DTEND:20171020T140000
LOCATION:Hotel Holiday in Thun
ORGANIZER:MAILTO:Segelclub Wendelsee Thun <info@scwe.ch>
SUMMARY:Apéro zwischendurch
END:VEVENT
END:VCALENDAR
