BEGIN:VCALENDAR
VERSION:2.0
PRODID:-//Segelclub Wendelsee Thun//NONSGML kigkonsult.se iCalcreator 2.16.
 12//
METHOD:PUBLISH
X-MS-OLK-FORCEINSPECTOROPEN:TRUE
BEGIN:VEVENT
UID:20260419T185024CEST-8114anzfOu@Segelclub Wendelsee Thun
DTSTAMP:20260419T165024Z
DESCRIPTION:Für Mitglieder\, die Zeit haben.\nWir treffen uns am Freitag\, 
 15. September um 11:00 Uhr ausnahmsweise vor dem SCWe-Lokal zum Apéro.\nDo
 rt stossen wir auf das 25-Jahre Jubiläum der Einweihung im September 1992 
 an.\n\n	Bei guter Witterung draussen und bei schlechtem Wetter am Schärme.
 \n	Es braucht keine Anmeldung.\n\n
DTSTART:20170915T130000
DTEND:20170915T143000
LOCATION:Vor dem Clublokal
ORGANIZER:MAILTO:Segelclub Wendelsee Thun <info@scwe.ch>
SUMMARY:September-Apéro mit Jubiläum
END:VEVENT
END:VCALENDAR
