BEGIN:VCALENDAR
VERSION:2.0
PRODID:-//Segelclub Wendelsee Thun//NONSGML kigkonsult.se iCalcreator 2.16.
 12//
METHOD:PUBLISH
X-MS-OLK-FORCEINSPECTOROPEN:TRUE
BEGIN:VEVENT
UID:20260419T184857CEST-0412Rr4tCL@Segelclub Wendelsee Thun
DTSTAMP:20260419T164857Z
DESCRIPTION:Für Mitglieder\, die Zeit haben.\nWir treffen uns an einem Frei
 tag etwa in der Monatsmitte ab 10:45 Uhr im Holiday Thun zum Apéro.\nBei g
 uter Witterung auf der Terasse.\nEs braucht keine Anmeldung.
DTSTART:20170818T134500
DTEND:20170818T143000
LOCATION:Hotel Holiday
ORGANIZER:MAILTO:Segelclub Wendelsee Thun <info@scwe.ch>
SUMMARY:August Apéro
END:VEVENT
END:VCALENDAR
