BEGIN:VCALENDAR
VERSION:2.0
PRODID:-//Segelclub Wendelsee Thun//NONSGML kigkonsult.se iCalcreator 2.16.
 12//
METHOD:PUBLISH
X-MS-OLK-FORCEINSPECTOROPEN:TRUE
BEGIN:VEVENT
UID:20260419T185044CEST-77755Vk8Sf@Segelclub Wendelsee Thun
DTSTAMP:20260419T165044Z
DESCRIPTION:Apéro für Mitglieder\, die Zeit haben.\nAm Freitag\, 21. Juli 2
 017 ab 10:45 Uhr im Hotel Holiday in Thun.\nWenn möglich im Gartenrestaura
 nt - bei schlechter Witterung drinnen.
DTSTART:20170721T124500
DTEND:20170721T143000
LOCATION:Hotel Holiday
ORGANIZER:MAILTO:Segelclub Wendelsee Thun <info@scwe.ch>
SUMMARY:SCWe-Apéro
END:VEVENT
END:VCALENDAR
