BEGIN:VCALENDAR
VERSION:2.0
PRODID:-//Segelclub Wendelsee Thun//NONSGML kigkonsult.se iCalcreator 2.16.
 12//
METHOD:PUBLISH
X-MS-OLK-FORCEINSPECTOROPEN:TRUE
BEGIN:VEVENT
UID:20260419T172601CEST-8644WUSUeB@Segelclub Wendelsee Thun
DTSTAMP:20260419T152601Z
DESCRIPTION:Es gab früher eine Gruppe SCWe-ler\, die sich ab und zu in Thun
  zum Apéro getroffen haben. Wir möchten versuchen\, diesen Brauch wieder h
 ochleben zu lassen.\nIch mache einen Vorschlag für den ersten solchen Apér
 o:\nAm  Freitag\, 16. Juni 2017 ab 11:00 Uhr im Hotel Holiday - je nach We
 tter draussen oder drinnen.\n\nDies ganz ohne Anmeldung\; wer Lust und Zei
 t hat\, der soll einfach kommen (Männer und Frauen)\n\nDen nächsten Apéro 
 planen wir vor Ort.\n\n 
DTSTART:20170616T130000
DTEND:20170616T143000
LOCATION:Hotel Holiday in Thun
ORGANIZER:MAILTO:Segelclub Wendelsee Thun <info@scwe.ch>
SUMMARY:SCWe-Apéro
END:VEVENT
END:VCALENDAR
