BEGIN:VCALENDAR
VERSION:2.0
PRODID:-//Segelclub Wendelsee Thun//NONSGML kigkonsult.se iCalcreator 2.16.
 12//
METHOD:PUBLISH
X-MS-OLK-FORCEINSPECTOROPEN:TRUE
BEGIN:VEVENT
UID:20260419T155150CEST-5814x0vA3Z@Segelclub Wendelsee Thun
DTSTAMP:20260419T135150Z
DESCRIPTION:
DTSTART:20150802T093000
DTEND:20150802T143000
LOCATION:Clublokal
ORGANIZER:MAILTO:Segelclub Wendelsee Thun <info@scwe.ch>
SUMMARY:Jubiläums Brunch - 40 Jahre SCWe
END:VEVENT
END:VCALENDAR
