BEGIN:VCALENDAR
VERSION:2.0
PRODID:-//Segelclub Wendelsee Thun//NONSGML kigkonsult.se iCalcreator 2.16.
 12//
METHOD:PUBLISH
X-MS-OLK-FORCEINSPECTOROPEN:TRUE
BEGIN:VEVENT
UID:20260419T184932CEST-8064TpLl0i@Segelclub Wendelsee Thun
DTSTAMP:20260419T164932Z
DESCRIPTION:\n 
DTSTART:20170916T153000
DTEND:20170916T230000
LOCATION:Thunersee 
ORGANIZER:MAILTO:Segelclub Wendelsee Thun <info@scwe.ch>
SUMMARY:TBSV Regatta Spiezer Langstrecke
END:VEVENT
END:VCALENDAR
