BEGIN:VCALENDAR
VERSION:2.0
PRODID:-//Segelclub Wendelsee Thun//NONSGML kigkonsult.se iCalcreator 2.16.
 12//
METHOD:PUBLISH
X-MS-OLK-FORCEINSPECTOROPEN:TRUE
BEGIN:VEVENT
UID:20260419T185222CEST-8985rvX9rK@Segelclub Wendelsee Thun
DTSTAMP:20260419T165222Z
DESCRIPTION:\n 
DTSTART:20170708T153000
DTEND:20170709T003000
LOCATION:Thunersee 
ORGANIZER:MAILTO:Segelclub Wendelsee Thun <info@scwe.ch>
SUMMARY:TBSV Regatta TYC Langstrecke
END:VEVENT
END:VCALENDAR
