BEGIN:VCALENDAR
VERSION:2.0
PRODID:-//Segelclub Wendelsee Thun//NONSGML kigkonsult.se iCalcreator 2.16.
 12//
METHOD:PUBLISH
X-MS-OLK-FORCEINSPECTOROPEN:TRUE
BEGIN:VEVENT
UID:20260419T171630CEST-7392mnAf5W@Segelclub Wendelsee Thun
DTSTAMP:20260419T151630Z
DESCRIPTION:Weitere Angaben siehe auf:   www.ycsp.ch\n 
DTSTART:20170506T160000
DTEND:20170506T230000
LOCATION:Thunersee 
ORGANIZER:MAILTO:Segelclub Wendelsee Thun <info@scwe.ch>
SUMMARY:TBSV Regatta Schlosspintlicup
END:VEVENT
END:VCALENDAR
