BEGIN:VCALENDAR
VERSION:2.0
PRODID:-//Segelclub Wendelsee Thun//NONSGML kigkonsult.se iCalcreator 2.16.
 12//
METHOD:PUBLISH
X-MS-OLK-FORCEINSPECTOROPEN:TRUE
BEGIN:VEVENT
UID:20260419T184921CEST-0608NGkAIm@Segelclub Wendelsee Thun
DTSTAMP:20260419T164921Z
DESCRIPTION:Im unteren Seebecken. Mehrere kleine Regatten.\nKeine Anmeldung
 . Kein Startgeld.\nOrganisator ist der YCSp
DTSTART:20170823T203000
DTEND:20170823T223000
LOCATION:Thunersee 
ORGANIZER:MAILTO:Segelclub Wendelsee Thun <info@scwe.ch>
SUMMARY:TBSV Regatta-Training
END:VEVENT
END:VCALENDAR
