BEGIN:VCALENDAR
VERSION:2.0
PRODID:-//Segelclub Wendelsee Thun//NONSGML kigkonsult.se iCalcreator 2.16.
 12//
METHOD:PUBLISH
X-MS-OLK-FORCEINSPECTOROPEN:TRUE
BEGIN:VEVENT
UID:20260419T172328CEST-00721oXCUv@Segelclub Wendelsee Thun
DTSTAMP:20260419T152328Z
DESCRIPTION:Die Teilnahme ist gratis und ohne Anmeldung.\nStart: 3 Minutens
 tart mit improvisierten Mitteln.\n 
DTSTART:20170607T203000
DTEND:20170607T230000
LOCATION:Thunersee 
ORGANIZER:MAILTO:Segelclub Wendelsee Thun <info@scwe.ch>
SUMMARY:TBSV Regatta Training
END:VEVENT
END:VCALENDAR
