BEGIN:VCALENDAR
VERSION:2.0
PRODID:-//Segelclub Wendelsee Thun//NONSGML kigkonsult.se iCalcreator 2.16.
 12//
METHOD:PUBLISH
X-MS-OLK-FORCEINSPECTOROPEN:TRUE
BEGIN:VEVENT
UID:20260419T174318CEST-8829gxp2eN@Segelclub Wendelsee Thun
DTSTAMP:20260419T154318Z
DESCRIPTION:\n 
DTSTART:20170524T200000
DTEND:20170524T200000
LOCATION:Thunersee 
ORGANIZER:MAILTO:Segelclub Wendelsee Thun <info@scwe.ch>
SUMMARY:TBSV Regatta Training
END:VEVENT
END:VCALENDAR
