BEGIN:VCALENDAR
VERSION:2.0
PRODID:-//Segelclub Wendelsee Thun//NONSGML kigkonsult.se iCalcreator 2.16.
 12//
METHOD:PUBLISH
X-MS-OLK-FORCEINSPECTOROPEN:TRUE
BEGIN:VEVENT
UID:20260419T171630CEST-2546d0Upu6@Segelclub Wendelsee Thun
DTSTAMP:20260419T151630Z
DESCRIPTION:\n 
DTSTART:20170517T203000
DTEND:20170517T230000
LOCATION:Thunersee 
ORGANIZER:MAILTO:Segelclub Wendelsee Thun <info@scwe.ch>
SUMMARY:TBSV Regatta Training
END:VEVENT
END:VCALENDAR
