BEGIN:VCALENDAR
VERSION:2.0
PRODID:-//Segelclub Wendelsee Thun//NONSGML kigkonsult.se iCalcreator 2.16.
 12//
METHOD:PUBLISH
X-MS-OLK-FORCEINSPECTOROPEN:TRUE
BEGIN:VEVENT
UID:20260419T172716CEST-1321VEExNV@Segelclub Wendelsee Thun
DTSTAMP:20260419T152716Z
DESCRIPTION:Das erste Regattatraining wird vom SCWe durchgeführt.\n 
DTSTART:20170510T203000
DTEND:20170510T230000
LOCATION:Thunersee 
ORGANIZER:MAILTO:Segelclub Wendelsee Thun <info@scwe.ch>
SUMMARY:TBSV Regatta-Training
END:VEVENT
END:VCALENDAR
