BEGIN:VCALENDAR
VERSION:2.0
PRODID:-//Segelclub Wendelsee Thun//NONSGML kigkonsult.se iCalcreator 2.16.
 12//
METHOD:PUBLISH
X-MS-OLK-FORCEINSPECTOROPEN:TRUE
BEGIN:VEVENT
UID:20260419T184921CEST-7556mKCVcx@Segelclub Wendelsee Thun
DTSTAMP:20260419T164921Z
DESCRIPTION:\nDer beliebte Altjahrshöck ist der letzte Abend im SCWe-Clubja
 hr.\nEs wartet wieder Raclette à Discretion mit den traditionellen Beilage
 n auf uns.\nZum Start gibt es einen Apéro.\nWir beginnen um 19:00 Uhr mit 
 dem Apéro und etwa ab 19:30 Uhr mit dem Raclette.\n\nSiehe Einladung im An
 ghang.\n\nBitte anmelden bis Mittwoch\, 27.12.2017.\nDanke\n
DTSTART:20171229T200000
DTEND:20171230T000000
LOCATION:SCWe Clublokal
ORGANIZER:MAILTO:Segelclub Wendelsee Thun <info@scwe.ch>
SUMMARY:Altjahrshöck - Raclette
END:VEVENT
END:VCALENDAR
