BEGIN:VCALENDAR
VERSION:2.0
PRODID:-//Segelclub Wendelsee Thun//NONSGML kigkonsult.se iCalcreator 2.16.
 12//
METHOD:PUBLISH
X-MS-OLK-FORCEINSPECTOROPEN:TRUE
BEGIN:VEVENT
UID:20260419T185217CEST-5910pF2vGA@Segelclub Wendelsee Thun
DTSTAMP:20260419T165217Z
DESCRIPTION:\nChlouse-Höck vom Freitag\, 1. Dezember 2017\nab 19:00 Uhr\n\n
 Gerne trinken wir mit Euch in der Adventszeit ein feines Glas Glühwein und
  plaudern über die Winterzeit oder über die vergangene Segelsaison.\nKulin
 arisch wird der Höck unterstützt mit hausgemachtem Glühwein\, Nüssli\, Sch
 öggeli\, Guezli und Gritibänzen.\nWir freuen uns auf eine rege Beteiligung
 .\n\nUnkostenbeitrag von Fr. 8.- pro Person.\n\nBitte um eine Anmeldung bi
 s Mi\, 29. November 2017 mit der SCWe-Seite pder per Mail.\nDanke.\n\n\n 
 \n
DTSTART:20171201T200000
DTEND:20171202T000000
LOCATION:Clublokal
ORGANIZER:MAILTO:Segelclub Wendelsee Thun <info@scwe.ch>
SUMMARY:Chlouse-Höck
END:VEVENT
END:VCALENDAR
