BEGIN:VCALENDAR
VERSION:2.0
PRODID:-//Segelclub Wendelsee Thun//NONSGML kigkonsult.se iCalcreator 2.16.
 12//
METHOD:PUBLISH
X-MS-OLK-FORCEINSPECTOROPEN:TRUE
BEGIN:VEVENT
UID:20260419T185317CEST-8157BxsLdD@Segelclub Wendelsee Thun
DTSTAMP:20260419T165317Z
DESCRIPTION:Da wir im November nicht an die Wärme reisen können\, lassen wi
 r uns das\nUrlaubsgefühl auf die Teller zaubern!\nDas Thema beim Seebärena
 bend ist dieses Jahr:\nKARIBIK\nIhr seid alle herzlich dazu eingeladen\, m
 it uns kulinarisch zu verreisen und\neuch durch ein farbenfrohes und viels
 eitiges Angebot verwöhnen zu lassen.\n\nDer Seebärenabend findet statt:\n
 \n	Samstag\, 18. November 2017 ab 19:00 Uhr im Cubhaus\n\nUm eine Anmeldung
  bis 13.11.2017 wird gebeten.\nSiehe Einladung.
DTSTART:20171118T200000
DTEND:20171119T005900
LOCATION:Clublokal
ORGANIZER:MAILTO:Segelclub Wendelsee Thun <info@scwe.ch>
SUMMARY:Seebären Abend
END:VEVENT
END:VCALENDAR
