BEGIN:VCALENDAR
VERSION:2.0
PRODID:-//Segelclub Wendelsee Thun//NONSGML kigkonsult.se iCalcreator 2.16.
 12//
METHOD:PUBLISH
X-MS-OLK-FORCEINSPECTOROPEN:TRUE
BEGIN:VEVENT
UID:20260419T184934CEST-2742KChRmZ@Segelclub Wendelsee Thun
DTSTAMP:20260419T164934Z
DESCRIPTION:Ukrainischer Abend\n\n'Marianne und Ruedi Mäusli bieten Euch im
  November wieder einen ukrainischen Abend. Der kulinarische Hauptteil best
 eht aus einer Borschtsch\, einer roten Suppe mit Gemüse und etwas Siedflei
 sch und 'Crème fraîche'. Zum Trinken dürfen Sekt und / oder ein Glas Wein 
 aus dem Klub-Beizli natürlich nicht fehlen. Dieses Jahr kann zum Dessert z
 udem ein ukrainischen Kräuter-Liqueur aus einer Eigenproduktion degustiert
  werden.\n \nAnschliessend erhalten wir in ein paar wenigen Bildern einen 
 Eindruck vom Westen der Ukraine.\n \nDie Gastgeber bitten um eine Anmeldun
 g für den November-Höck bis \n\n\n	Mittwoch\, 1. November 2017 via SCWe-Sei
 te oder per Mail an praesident@scwe.ch\n\n \n\n 
DTSTART:20171103T200000
DTEND:20171104T000000
LOCATION:Clublokal
ORGANIZER:MAILTO:Segelclub Wendelsee Thun <info@scwe.ch>
SUMMARY:November Höck: Ukrainischer Abend
END:VEVENT
END:VCALENDAR
