BEGIN:VCALENDAR
VERSION:2.0
PRODID:-//Segelclub Wendelsee Thun//NONSGML kigkonsult.se iCalcreator 2.16.
 12//
METHOD:PUBLISH
X-MS-OLK-FORCEINSPECTOROPEN:TRUE
BEGIN:VEVENT
UID:20260419T185230CEST-8922SxIGkR@Segelclub Wendelsee Thun
DTSTAMP:20260419T165230Z
DESCRIPTION:\n 
DTSTART:20171021T220000
DTEND:20171022T010000
LOCATION:Thunersee Yachtclub
ORGANIZER:MAILTO:Segelclub Wendelsee Thun <info@scwe.ch>
SUMMARY:TBSV Schlussabend
END:VEVENT
END:VCALENDAR
