BEGIN:VCALENDAR
VERSION:2.0
PRODID:-//Segelclub Wendelsee Thun//NONSGML kigkonsult.se iCalcreator 2.16.
 12//
METHOD:PUBLISH
X-MS-OLK-FORCEINSPECTOROPEN:TRUE
BEGIN:VEVENT
UID:20260419T185231CEST-4025hTVIcV@Segelclub Wendelsee Thun
DTSTAMP:20260419T165231Z
DESCRIPTION:SCWe-Absegeln 2017\nNachmittags\, individuelles Segeln auf dem 
 Thunersee. \nAb 16:00 Uhr wird die SCWe Flagge auf dem Schiff von Daniel J
 ungen vor dem Bonstetten-Inseli gehisst und die Anker zum Apéro auf dem Sc
 hiff ausgeworfen.\n\nAb 18.00 Spaghetti-Plousch im Clublokal Mit den Köchi
 nnen Marta Bigler und Erika Gasser.\n \n \n \n
DTSTART:20171014T180000
DTEND:20171015T000000
LOCATION:See / Clublokal
ORGANIZER:MAILTO:Segelclub Wendelsee Thun <info@scwe.ch>
SUMMARY:Absegeln
END:VEVENT
END:VCALENDAR
