BEGIN:VCALENDAR
VERSION:2.0
PRODID:-//Segelclub Wendelsee Thun//NONSGML kigkonsult.se iCalcreator 2.16.
 12//
METHOD:PUBLISH
X-MS-OLK-FORCEINSPECTOROPEN:TRUE
BEGIN:VEVENT
UID:20260419T184858CEST-0273MRJdXV@Segelclub Wendelsee Thun
DTSTAMP:20260419T164858Z
DESCRIPTION: \n\nEs ist wieder so weit: 'O'zapft is' - Die Mass werden gefü
 llt\, die Weisswurst dampft und die Brezen duften herrlich.\nIm Angebot st
 ehen Zwickelbier vom Fass\, verschiedene Biere zum Probieren sowie Weisswu
 rst mit Brezen oder Käsebrezen.\nDarzue bayerische Musi.\nBitte nehmt wied
 er einen eigenen Humpen mit.\n\n \n
DTSTART:20171006T210000
DTEND:20171007T010000
LOCATION:Clublokal
ORGANIZER:MAILTO:Segelclub Wendelsee Thun <info@scwe.ch>
SUMMARY:SCWe-Oktober-Fest
END:VEVENT
END:VCALENDAR
