BEGIN:VCALENDAR
VERSION:2.0
PRODID:-//Segelclub Wendelsee Thun//NONSGML kigkonsult.se iCalcreator 2.16.
 12//
METHOD:PUBLISH
X-MS-OLK-FORCEINSPECTOROPEN:TRUE
BEGIN:VEVENT
UID:20260419T185055CEST-1760dtAoKW@Segelclub Wendelsee Thun
DTSTAMP:20260419T165055Z
DESCRIPTION:Thai-Buffet mit der Familie Daniel und Sutchai Dubach.\nAnmeldu
 ng bitte bis am 30. August 2017 mit der SCWe-Seite oder per Mail.\nDetails
  siehe Anhang  . . .\n 
DTSTART:20170901T210000
DTEND:20170902T010000
LOCATION:Clublokal
ORGANIZER:MAILTO:Segelclub Wendelsee Thun <info@scwe.ch>
SUMMARY:September Höck
END:VEVENT
END:VCALENDAR
