BEGIN:VCALENDAR
VERSION:2.0
PRODID:-//Segelclub Wendelsee Thun//NONSGML kigkonsult.se iCalcreator 2.16.
 12//
METHOD:PUBLISH
X-MS-OLK-FORCEINSPECTOROPEN:TRUE
BEGIN:VEVENT
UID:20260419T185316CEST-0896E3nlfn@Segelclub Wendelsee Thun
DTSTAMP:20260419T165316Z
DESCRIPTION:\nStart: Sonntag\, 27. August 2017\, 14.00 Uhr\,\nStartgebiet 1
  oder 2\nKurs: A oder B\n\nMeldung per Internet oder im Klublokal am So\, 
 27. August 2017\, 11.30 - 12.30 Uhr\nMeldegeld: CHF 10.- bezahlbar beim Me
 lden vor Ort oder an der Rangverkündigung.\n\nKeine Lizenzpflicht.\nKlasse
 n: Yachten\, Jollen und Mehrrümpfer\n\nStartprozedere: Gemeinsamer Start a
 ller Teilnehmer
DTSTART:20170827T160000
DTEND:20170827T200000
LOCATION:Thunersee
ORGANIZER:MAILTO:Segelclub Wendelsee Thun <info@scwe.ch>
SUMMARY:Regatta - Wendelsee Classic (Clubregatta)
END:VEVENT
END:VCALENDAR
