BEGIN:VCALENDAR
VERSION:2.0
PRODID:-//Segelclub Wendelsee Thun//NONSGML kigkonsult.se iCalcreator 2.16.
 12//
METHOD:PUBLISH
X-MS-OLK-FORCEINSPECTOROPEN:TRUE
BEGIN:VEVENT
UID:20260419T185025CEST-5437Cvrv20@Segelclub Wendelsee Thun
DTSTAMP:20260419T165025Z
DESCRIPTION:\nErste Startmöglichkeit \n13.30 Uhr\, Startgebiet 1 oder 2\n\n
 Klassen\nYachten\, Jollen und Mehrrümpfer\nYardstickzahlen gemäss tbsv\n\n
 Weitere Informationen siehe Regattaauschreibung\n\nRangverkündigung\n1830 
 Uhr im Klubhaus SCWe\nTraditionell gibt es nach der Regatta Kartoffelsalat
  mit Bratwurst
DTSTART:20170826T153000
DTEND:20170826T220000
LOCATION:Thunersee
ORGANIZER:MAILTO:Segelclub Wendelsee Thun <info@scwe.ch>
SUMMARY:Regatta - Wendelsee Cup
END:VEVENT
END:VCALENDAR
