BEGIN:VCALENDAR
VERSION:2.0
PRODID:-//Segelclub Wendelsee Thun//NONSGML kigkonsult.se iCalcreator 2.16.
 12//
METHOD:PUBLISH
X-MS-OLK-FORCEINSPECTOROPEN:TRUE
BEGIN:VEVENT
UID:20260419T184932CEST-5463ogwa9r@Segelclub Wendelsee Thun
DTSTAMP:20260419T164932Z
DESCRIPTION:Am Sonntag\, 6. August findet der sechste SCWe-Augustbrunch sta
 tt. Dieser Anlass ist jeweils einer der Höhenpunkte der Saison! Ihr seid a
 lle herzlich eingeladen mit uns das reichhaltige Angebot des Brunch-Buffet
 s zu geniessen!\nWir erwarten euch ab 9.30 Uhr beim Clubhaus mit grossem A
 ppetit zu vielen regionalen Köstlichkeiten! Kosten pro Person 22.00 Franke
 n (Kinder bis 16 Jahre 15.00 Franken).\n 
DTSTART:20170806T113000
DTEND:20170806T153000
LOCATION:Clublokal
ORGANIZER:MAILTO:Segelclub Wendelsee Thun <info@scwe.ch>
SUMMARY:August-Brunch
END:VEVENT
END:VCALENDAR
