BEGIN:VCALENDAR
VERSION:2.0
PRODID:-//Segelclub Wendelsee Thun//NONSGML kigkonsult.se iCalcreator 2.16.
 12//
METHOD:PUBLISH
X-MS-OLK-FORCEINSPECTOROPEN:TRUE
BEGIN:VEVENT
UID:20260419T185218CEST-0879PLUm3K@Segelclub Wendelsee Thun
DTSTAMP:20260419T165218Z
DESCRIPTION:Datum: Freitag\, 07 Juli 2017\nZeit: 19:00 Uhr\nSystem: alle br
 ingen das Grillgut und die Beilagen selber mit\nDie Getränke beziehen wir 
 aus dem SCWe-Keller \n\nBesonderes: Der Vorstand des Ruderclubs ist eingel
 aden \n\nLeitung: Ueli Scheidegger\, Stöffu Gafner 
DTSTART:20170707T210000
DTEND:20170708T000000
LOCATION:Clublokal
ORGANIZER:MAILTO:Segelclub Wendelsee Thun <info@scwe.ch>
SUMMARY:Clubbrätle
END:VEVENT
END:VCALENDAR
