BEGIN:VCALENDAR
VERSION:2.0
PRODID:-//Segelclub Wendelsee Thun//NONSGML kigkonsult.se iCalcreator 2.16.
 12//
METHOD:PUBLISH
X-MS-OLK-FORCEINSPECTOROPEN:TRUE
BEGIN:VEVENT
UID:20260419T185223CEST-8583ZLtgzc@Segelclub Wendelsee Thun
DTSTAMP:20260419T165223Z
DESCRIPTION:Segelfahrt und Eintreffen der Boote im Güetital ab 16:00 Uhr.\n
 SCWe-Apéro ab 16.30 Uhr.\nAnschliessend gemütliches Beisammensein mit Pick
 nick. Zu später Stunde wird im Güetital auf dem Schiff übernachtet.\nDurch
 führung: \n\n	Der Anlass findet statt\n	Es ist in den frühen Morgenstunden d
 es Sonntags mit Niderschlag zu rechnen. Danach scheint dann wieder die Son
 ne.\n\n\n\n 
DTSTART:20170624T180000
DTEND:20170624T200000
LOCATION:Hafen Güetital
ORGANIZER:MAILTO:Segelclub Wendelsee Thun <info@scwe.ch>
SUMMARY:Samstigplousch
END:VEVENT
END:VCALENDAR
