BEGIN:VCALENDAR
VERSION:2.0
PRODID:-//Segelclub Wendelsee Thun//NONSGML kigkonsult.se iCalcreator 2.16.
 12//
METHOD:PUBLISH
X-MS-OLK-FORCEINSPECTOROPEN:TRUE
BEGIN:VEVENT
UID:20260419T171725CEST-7500upI9EC@Segelclub Wendelsee Thun
DTSTAMP:20260419T151725Z
DESCRIPTION:ab 19:00 Uhr Apéro offeriert\nab 19:30 Uhr verschiedene Crèpes 
 siehe Einladung im Anhang\n 
DTSTART:20170602T210000
DTEND:20170603T010000
LOCATION:Clublokal
ORGANIZER:MAILTO:Segelclub Wendelsee Thun <info@scwe.ch>
SUMMARY:Juni Höck 
END:VEVENT
END:VCALENDAR
