BEGIN:VCALENDAR
VERSION:2.0
PRODID:-//Segelclub Wendelsee Thun//NONSGML kigkonsult.se iCalcreator 2.16.
 12//
METHOD:PUBLISH
X-MS-OLK-FORCEINSPECTOROPEN:TRUE
BEGIN:VEVENT
UID:20260419T172602CEST-5257uGV9UJ@Segelclub Wendelsee Thun
DTSTAMP:20260419T152602Z
DESCRIPTION:Treffpunkt zum Apéro ab 16:00 Uhr im SCWe-Lokal\n 
DTSTART:20170513T180000
DTEND:20170513T210000
LOCATION:Clublokal
ORGANIZER:MAILTO:Segelclub Wendelsee Thun <info@scwe.ch>
SUMMARY:Ansegeln
END:VEVENT
END:VCALENDAR
