BEGIN:VCALENDAR
VERSION:2.0
PRODID:-//Segelclub Wendelsee Thun//NONSGML kigkonsult.se iCalcreator 2.16.
 12//
METHOD:PUBLISH
X-MS-OLK-FORCEINSPECTOROPEN:TRUE
BEGIN:VEVENT
UID:20260419T172327CEST-5158Dafw2Z@Segelclub Wendelsee Thun
DTSTAMP:20260419T152327Z
DESCRIPTION:Die warme Jahreszeit rückt näher - Reiselust\, Ferien\, Chianti
  und Spaghettigelüste kommen hoch.\n\nDeshalb laden wir euch zu Spaghetti 
 Bolognaise und  Carbonara\, Salat mit Dessert / Kuchen ein.\n\nDanke den W
 irten und Köchen Marta Bigler sowie Erika und Heinz Gasser.\n
DTSTART:20170505T210000
DTEND:20170506T010000
LOCATION:Clublokal
ORGANIZER:MAILTO:Segelclub Wendelsee Thun <info@scwe.ch>
SUMMARY:Mai Höck 
END:VEVENT
END:VCALENDAR
