BEGIN:VCALENDAR
VERSION:2.0
PRODID:-//Segelclub Wendelsee Thun//NONSGML kigkonsult.se iCalcreator 2.16.
 12//
METHOD:PUBLISH
X-MS-OLK-FORCEINSPECTOROPEN:TRUE
BEGIN:VEVENT
UID:20260419T171653CEST-5706BpT9eN@Segelclub Wendelsee Thun
DTSTAMP:20260419T151653Z
DESCRIPTION:Verwöhnt werden wir mit einem burmesischen Chicken-Curry\n\n​Un
 ser Koch - Konrad Gysi freut sich auf zahlreiche hungrige Gäste und auf di
 e ersten Geschichten vom Thunersee.\n\n​Die Anmeldungen bitte bis am Donne
 rstag\, 5.4.2017 - 18:00 Uhr via Anmeldeformular auf der Homepage.\n\nWir 
 freuen uns auf einen geselligen Abend.\n\n 
DTSTART:20170407T210000
DTEND:20170408T013000
LOCATION:Clublokal
ORGANIZER:MAILTO:Segelclub Wendelsee Thun <info@scwe.ch>
SUMMARY:April Höck 
END:VEVENT
END:VCALENDAR
