BEGIN:VCALENDAR
VERSION:2.0
PRODID:-//Segelclub Wendelsee Thun//NONSGML kigkonsult.se iCalcreator 2.16.
 12//
METHOD:PUBLISH
X-MS-OLK-FORCEINSPECTOROPEN:TRUE
BEGIN:VEVENT
UID:20260419T171652CEST-6099tGUgKz@Segelclub Wendelsee Thun
DTSTAMP:20260419T151652Z
DESCRIPTION:
DTSTART:20170331T220000
DTEND:20170401T000000
LOCATION:Hotel Seepark
ORGANIZER:MAILTO:Segelclub Wendelsee Thun <info@scwe.ch>
SUMMARY:Generalversammlung 2017
END:VEVENT
END:VCALENDAR
