BEGIN:VCALENDAR
VERSION:2.0
PRODID:-//Segelclub Wendelsee Thun//NONSGML kigkonsult.se iCalcreator 2.16.
 12//
METHOD:PUBLISH
X-MS-OLK-FORCEINSPECTOROPEN:TRUE
BEGIN:VEVENT
UID:20260419T171725CEST-2325U9pvR3@Segelclub Wendelsee Thun
DTSTAMP:20260419T151725Z
DESCRIPTION:Ihr seid herzlich dazu eingeladen\, euch für einen Abend kulina
 risch entführen zu lassen!\n\nDieses Jahr werden unsere Gäste am Seebärena
 bend nach Asien reisen! Unsere Köche für diesen gemeinsamen Anlass werden 
 uns ein vielseitiges\, farbenfrohes Essen präsentieren.\n\nDas Motto des A
 bends lautet:\n \n\n​Thaifood\n\n \n \n\nWir freuen uns auf zahlreiche Anm
 eldungen bis am 10.11.2016.\n\nAchtung! Die Teilnehmerzahl ist auf 35 Pers
 onen beschränkt!\n
DTSTART:20161119T200000
DTEND:20161120T005100
LOCATION:Clublokal
ORGANIZER:MAILTO:Segelclub Wendelsee Thun <info@scwe.ch>
SUMMARY:Seebären Abend -Thaifood
END:VEVENT
END:VCALENDAR
