BEGIN:VCALENDAR
VERSION:2.0
PRODID:-//Segelclub Wendelsee Thun//NONSGML kigkonsult.se iCalcreator 2.16.
 12//
METHOD:PUBLISH
X-MS-OLK-FORCEINSPECTOROPEN:TRUE
BEGIN:VEVENT
UID:20260419T172327CEST-75203tFhji@Segelclub Wendelsee Thun
DTSTAMP:20260419T152327Z
DESCRIPTION:
DTSTART:20161022T190000
DTEND:20161022T235900
LOCATION:Clubhaus TYC
ORGANIZER:MAILTO:Segelclub Wendelsee Thun <info@scwe.ch>
SUMMARY:TBSV Schlussabend
END:VEVENT
END:VCALENDAR
