BEGIN:VCALENDAR
VERSION:2.0
PRODID:-//Segelclub Wendelsee Thun//NONSGML kigkonsult.se iCalcreator 2.16.
 12//
METHOD:PUBLISH
X-MS-OLK-FORCEINSPECTOROPEN:TRUE
BEGIN:VEVENT
UID:20260419T173808CEST-5310vAwzRU@Segelclub Wendelsee Thun
DTSTAMP:20260419T153808Z
DESCRIPTION:
DTSTART:20160917T140000
DTEND:20160917T190000
LOCATION:Thunersee
ORGANIZER:MAILTO:Segelclub Wendelsee Thun <info@scwe.ch>
SUMMARY:Regatta - Herbstpreis
END:VEVENT
END:VCALENDAR
