BEGIN:VCALENDAR
VERSION:2.0
PRODID:-//Segelclub Wendelsee Thun//NONSGML kigkonsult.se iCalcreator 2.16.
 12//
METHOD:PUBLISH
X-MS-OLK-FORCEINSPECTOROPEN:TRUE
BEGIN:VEVENT
UID:20260419T174145CEST-4709UWwKHu@Segelclub Wendelsee Thun
DTSTAMP:20260419T154145Z
DESCRIPTION:
DTSTART:20160824T190000
DTEND:20160824T213000
LOCATION:Thunersee
ORGANIZER:MAILTO:Segelclub Wendelsee Thun <info@scwe.ch>
SUMMARY:Regatta Training
END:VEVENT
END:VCALENDAR
