BEGIN:VCALENDAR
VERSION:2.0
PRODID:-//Segelclub Wendelsee Thun//NONSGML kigkonsult.se iCalcreator 2.16.
 12//
METHOD:PUBLISH
X-MS-OLK-FORCEINSPECTOROPEN:TRUE
BEGIN:VEVENT
UID:20260419T172643CEST-569025LhHd@Segelclub Wendelsee Thun
DTSTAMP:20260419T152643Z
DESCRIPTION:
DTSTART:20160806T140000
DTEND:20160806T190000
LOCATION:Thunersee
ORGANIZER:MAILTO:Segelclub Wendelsee Thun <info@scwe.ch>
SUMMARY:Regatta - Spiezer Langstrecke
END:VEVENT
END:VCALENDAR
