BEGIN:VCALENDAR
VERSION:2.0
PRODID:-//Segelclub Wendelsee Thun//NONSGML kigkonsult.se iCalcreator 2.16.
 12//
METHOD:PUBLISH
X-MS-OLK-FORCEINSPECTOROPEN:TRUE
BEGIN:VEVENT
UID:20260419T172424CEST-6892BVoXmZ@Segelclub Wendelsee Thun
DTSTAMP:20260419T152424Z
DESCRIPTION:
DTSTART:20160629T203000
DTEND:20160629T230000
LOCATION:Thunersee
ORGANIZER:MAILTO:Segelclub Wendelsee Thun <info@scwe.ch>
SUMMARY:Regatta Training
END:VEVENT
END:VCALENDAR
