BEGIN:VCALENDAR
VERSION:2.0
PRODID:-//Segelclub Wendelsee Thun//NONSGML kigkonsult.se iCalcreator 2.16.
 12//
METHOD:PUBLISH
X-MS-OLK-FORCEINSPECTOROPEN:TRUE
BEGIN:VEVENT
UID:20260419T155149CEST-58314FXPUl@Segelclub Wendelsee Thun
DTSTAMP:20260419T135149Z
DESCRIPTION:
DTSTART:20150501T190000
DTEND:20150501T235900
LOCATION:Clublokal
ORGANIZER:MAILTO:Segelclub Wendelsee Thun <info@scwe.ch>
SUMMARY:Mai Höck - Fischsuppe
END:VEVENT
END:VCALENDAR
