BEGIN:VCALENDAR
VERSION:2.0
PRODID:-//Segelclub Wendelsee Thun//NONSGML kigkonsult.se iCalcreator 2.16.
 12//
METHOD:PUBLISH
X-MS-OLK-FORCEINSPECTOROPEN:TRUE
BEGIN:VEVENT
UID:20260419T172716CEST-42382kv7at@Segelclub Wendelsee Thun
DTSTAMP:20260419T152716Z
DESCRIPTION:
DTSTART:20160511T200000
DTEND:20160511T233000
LOCATION:Thunersee
ORGANIZER:MAILTO:Segelclub Wendelsee Thun <info@scwe.ch>
SUMMARY:Regatta Training
END:VEVENT
END:VCALENDAR
